BEGIN:VCALENDAR
VERSION:2.0
PRODID:-// - ECPv6.15.18//NONSGML v1.0//EN
CALSCALE:GREGORIAN
METHOD:PUBLISH
X-ORIGINAL-URL:https://justcommunitiesarizona.org
X-WR-CALDESC:Events for 
REFRESH-INTERVAL;VALUE=DURATION:PT1H
X-Robots-Tag:noindex
X-PUBLISHED-TTL:PT1H
BEGIN:VTIMEZONE
TZID:America/Phoenix
BEGIN:STANDARD
TZOFFSETFROM:-0700
TZOFFSETTO:-0700
TZNAME:MST
DTSTART:20220101T000000
END:STANDARD
END:VTIMEZONE
BEGIN:VEVENT
DTSTART;TZID=America/Phoenix:20231004T120000
DTEND;TZID=America/Phoenix:20231004T140000
DTSTAMP:20260425T193515
CREATED:20230924T001750Z
LAST-MODIFIED:20230924T005649Z
UID:4084-1696420800-1696428000@justcommunitiesarizona.org
SUMMARY:JustReinvest: Prop 207- Grant Info Sessions
DESCRIPTION:JCA is pleased to invite you to a series of four Maricopa County Justice Reinvestment Grant Info Sessions happening in October 2023. We are offering 4 opportunities (2 in-person and 2-virtual) to get important information to help your organization prepare for the RFP scheduled for release on Oct 16th. \n\n\nProposition 207\, the Smart and Safe Arizona Act\, was passed by voters in 2020. In addition to legalizing adult recreational use of marijuana\, it created a Justice Reinvestment Fund using 10% of the sales tax on state sales of recreational cannabis. A portion of those funds are distributed to each County Health Department (in proportion to the population) to distribute via grants to qualified nonprofit organizations to provide justice reinvestment programs in that county. \n\n\nJoin us to learn about Maricopa County Health Department’s Justice Reinvestment grant opportunities\, eligibility criteria\, application details\, and to connect with fellow advocates for Justice reinvestment. \n\n\nWed Oct 4th-(12-2pm)-Maryvale Community Ctr\n4420 N. 51St Ave\, Phx
URL:https://justcommunitiesarizona.org/event/justreinvest-prop-207-grant-info-sessions-10-04-23/
LOCATION:Maryvale Community Center\, 4420 N. 51St Ave\, Phoenix\, AZ\, 85031\, United States
ATTACH;FMTTYPE=image/png:https://justcommunitiesarizona.org/wp-content/uploads/JustReinvest-InfoFlyer.png
ORGANIZER;CN="Just Communities Arizona":MAILTO:hello@justcomaz.org
END:VEVENT
END:VCALENDAR