BEGIN:VCALENDAR
VERSION:2.0
PRODID:-// - ECPv6.15.18//NONSGML v1.0//EN
CALSCALE:GREGORIAN
METHOD:PUBLISH
X-ORIGINAL-URL:https://justcommunitiesarizona.org
X-WR-CALDESC:Events for 
REFRESH-INTERVAL;VALUE=DURATION:PT1H
X-Robots-Tag:noindex
X-PUBLISHED-TTL:PT1H
BEGIN:VTIMEZONE
TZID:America/Phoenix
BEGIN:STANDARD
TZOFFSETFROM:-0700
TZOFFSETTO:-0700
TZNAME:MST
DTSTART:20220101T000000
END:STANDARD
END:VTIMEZONE
BEGIN:VEVENT
DTSTART;TZID=America/Phoenix:20231010T173000
DTEND;TZID=America/Phoenix:20231010T193000
DTSTAMP:20260425T193521
CREATED:20230925T191017Z
LAST-MODIFIED:20230925T191017Z
UID:4103-1696959000-1696966200@justcommunitiesarizona.org
SUMMARY:Just Safety Dialogues - Tucson
DESCRIPTION:Just Communities Arizona is excited to announce the Just Safety Dialogues\, a series of three thought-provoking events taking place across the state. These dialogues aim to foster discussions on holistic and inclusive community safety by highlighting examples from around the US and here in Arizona. \nEach event will feature a panel of representatives from national organizations as well as some from the host community (Tucson\, Phoenix\, Flagstaff) that are creating safety and wellbeing in their communities in new and creative ways.  \nThe aim of these events is to expand our definition of “safety” beyond preventing and responding to crime to include meeting basic human needs\, bolstering economic security\, addressing mental and behavioral health and wellness\, and providing community cohesion and belonging. The panels will showcase the tremendous capacity of local communities to address their own needs. \n  \n\nHost/Co-Sponsors: City of Tucson\, National Lawyers Guild UA student Chapter\n\nPanelists:\nJohn Bauters\, Arizona State Director for the Alliance for Safety and Justice\, on Trauma Recovery Centers.\nDanny Howe\, founder of Earnest House and The Howe Project\, on innovative approaches to transitional housing.\nJacob Robles\, a founding member of Flowers & Bullets\, on art\, culture\, and sustainability work in community.\nTC Tolbert\, Co-Founder of Building Out Safer Spaces (BOSS)\, on creating opportunity and community spaces for BIPOC and Women\, Queer\, Trans\, and Femme of Center people.\n\n*Opening remarks by Tucson Mayor Regina Romero\n\n–\n\nUniversity of Arizona\nJames E. Rogers School of Law\, Rm 164\n1201 E Speedway Blvd\, Tucson
URL:https://justcommunitiesarizona.org/event/just-safety-dialogues-tucson/
LOCATION:James E. Rogers College of Law\, 1201 E Speedway Blvd\, Tucson\, 85721
ORGANIZER;CN="Just Communities Arizona":MAILTO:hello@justcomaz.org
END:VEVENT
END:VCALENDAR