BEGIN:VCALENDAR
VERSION:2.0
PRODID:-// - ECPv6.15.18//NONSGML v1.0//EN
CALSCALE:GREGORIAN
METHOD:PUBLISH
X-ORIGINAL-URL:https://justcommunitiesarizona.org
X-WR-CALDESC:Events for 
REFRESH-INTERVAL;VALUE=DURATION:PT1H
X-Robots-Tag:noindex
X-PUBLISHED-TTL:PT1H
BEGIN:VTIMEZONE
TZID:America/Phoenix
BEGIN:STANDARD
TZOFFSETFROM:-0700
TZOFFSETTO:-0700
TZNAME:MST
DTSTART:20220101T000000
END:STANDARD
END:VTIMEZONE
BEGIN:VEVENT
DTSTART;TZID=America/Phoenix:20231215T173000
DTEND;TZID=America/Phoenix:20231215T193000
DTSTAMP:20260425T153438
CREATED:20231115T202311Z
LAST-MODIFIED:20260120T180303Z
UID:4153-1702661400-1702668600@justcommunitiesarizona.org
SUMMARY:JCA Annual Holiday Card Writing Party
DESCRIPTION:Join us for an evening of food\, music\, and community as we write messages of hope to incarcerated people during the holidays! \nA light dinner will be served\, plus hot cocoa and holiday treats. \nDJ Buttafly will be there spinning the holiday songs you never knew you loved. \nFree and open to all!
URL:https://justcommunitiesarizona.org/event/jca-annual-holiday-card-writing-party/
LOCATION:YWCA\, 525 N. Bonita\, Tucson\, AZ\, 85745
ATTACH;FMTTYPE=image/jpeg:https://justcommunitiesarizona.org/wp-content/uploads/2023-holiday-card-party.jpg
ORGANIZER;CN="Just Communities Arizona":MAILTO:hello@justcomaz.org
END:VEVENT
END:VCALENDAR